BEGIN:VCALENDAR
VERSION:2.0
PRODID:spatie/icalendar-generator
DESCRIPTION:Veranstaltungen von Wishmob Theater
X-WR-CALDESC:Veranstaltungen von Wishmob Theater
REFRESH-INTERVAL;VALUE=DURATION:PT1440M
X-PUBLISHED-TTL:PT1440M
BEGIN:VTIMEZONE
TZID:Etc/GMT+0
BEGIN:STANDARD
DTSTART:20250919T103000Z
TZOFFSETFROM:+0000
TZOFFSETTO:+0000
END:STANDARD
END:VTIMEZONE
BEGIN:VTIMEZONE
TZID:UTC
BEGIN:STANDARD
DTSTART:20250729T134105Z
TZOFFSETFROM:+0000
TZOFFSETTO:+0000
END:STANDARD
END:VTIMEZONE
BEGIN:VEVENT
UID:93-89
DTSTAMP:20260425T134105Z
SUMMARY:Der Wald hat 'nen Vogel!
LOCATION:Haus der Jugend Mainz Mitternachtsgasse 8  Mainz  55116
ORGANIZER;CN=admin:MAILTO:info@wishmobtheater.de
DTSTART;TZID=Etc/GMT+0:20260616T103000
DTEND;TZID=Etc/GMT+0:20260616T111000
X-ALT-DESC;FMTTYPE=TEXT/HTML:Im Wald erklingt eine wundervolle Melodie. Die
  Vögel singen\, Blätter rauschen\, Grillen zirpen und der Specht macht d
 en Beat. Doch was ist das? Eine fremde Stimme bringt das Konzert durcheina
 nder. Die Waldtiere wundern sich: Was macht der exotische grüne Vogel hie
 r im Wald? Können die Kinder zwischen dem Neuling und den Waldbewohnern v
 ermitteln?WishmobTheater zeigt ein&amp;hellip\;
CATEGORIES:Wischmob,  Wald
URL;VALUE=URI:https://wishmob-theater.de/mc-events/der-wald-hat-nen-vogel-1
 1/
METHOD:PUBLISH
END:VEVENT
END:VCALENDAR